BEGIN:VCALENDAR
VERSION:2.0
PRODID:-//Barn Owl Brewing - ECPv6.15.15//NONSGML v1.0//EN
CALSCALE:GREGORIAN
METHOD:PUBLISH
X-WR-CALNAME:Barn Owl Brewing
X-ORIGINAL-URL:https://www.barnowlbrewing.ca
X-WR-CALDESC:Events for Barn Owl Brewing
REFRESH-INTERVAL;VALUE=DURATION:PT1H
X-Robots-Tag:noindex
X-PUBLISHED-TTL:PT1H
BEGIN:VTIMEZONE
TZID:America/Vancouver
BEGIN:DAYLIGHT
TZOFFSETFROM:-0800
TZOFFSETTO:-0700
TZNAME:PDT
DTSTART:20250309T100000
END:DAYLIGHT
BEGIN:STANDARD
TZOFFSETFROM:-0700
TZOFFSETTO:-0800
TZNAME:PST
DTSTART:20251102T090000
END:STANDARD
BEGIN:DAYLIGHT
TZOFFSETFROM:-0800
TZOFFSETTO:-0700
TZNAME:PDT
DTSTART:20260308T100000
END:DAYLIGHT
BEGIN:STANDARD
TZOFFSETFROM:-0700
TZOFFSETTO:-0800
TZNAME:PST
DTSTART:20261101T090000
END:STANDARD
BEGIN:DAYLIGHT
TZOFFSETFROM:-0800
TZOFFSETTO:-0700
TZNAME:PDT
DTSTART:20270314T100000
END:DAYLIGHT
BEGIN:STANDARD
TZOFFSETFROM:-0700
TZOFFSETTO:-0800
TZNAME:PST
DTSTART:20271107T090000
END:STANDARD
END:VTIMEZONE
BEGIN:VEVENT
DTSTART;TZID=America/Vancouver:20260412T140000
DTEND;TZID=America/Vancouver:20260412T160000
DTSTAMP:20260419T213529
CREATED:20260312T035736Z
LAST-MODIFIED:20260312T035736Z
UID:9922-1776002400-1776009600@www.barnowlbrewing.ca
SUMMARY:LIVE MUSIC: Josh Smith
DESCRIPTION:Joshua Smith is a Maritime singer-songwriter living in the Okanagan. Stop by The Barn this Sunday between 2-4PM and enjoy some live music – no cover! \nBring your people\, grab a pint\, and enjoy.
URL:https://www.barnowlbrewing.ca/event/live-music-josh-smith-2/
LOCATION:Private: The Loft\, 102 - 4629 Lakeshore Road\, Kelowna\, BC\, V1W 1X3\, Canada
CATEGORIES:Live Music
ATTACH;FMTTYPE=image/png:https://www.barnowlbrewing.ca/wp-content/uploads/2026/02/Screenshot-2026-01-31-at-9.19.41-PM-e1771563931772.png
ORGANIZER;CN="Barn Owl Brewing":MAILTO:info@barnowlbrewing.ca
END:VEVENT
BEGIN:VEVENT
DTSTART;TZID=America/Vancouver:20260408T183000
DTEND;TZID=America/Vancouver:20260408T200000
DTSTAMP:20260419T213529
CREATED:20260312T035257Z
LAST-MODIFIED:20260408T211918Z
UID:9919-1775673000-1775678400@www.barnowlbrewing.ca
SUMMARY:LIVE MUSIC: Chris Drieschner (The Chris Show)
DESCRIPTION:Solo acoustic covers and tributes\, with a set list that consists of Modern and Classic Rock and a few Country and Folk tunes. Stop by The Barn and check it out!
URL:https://www.barnowlbrewing.ca/event/live-music-chris-drieschner-the-chris-show/
LOCATION:Private: The Loft\, 102 - 4629 Lakeshore Road\, Kelowna\, BC\, V1W 1X3\, Canada
CATEGORIES:Live Music
ATTACH;FMTTYPE=image/jpeg:https://www.barnowlbrewing.ca/wp-content/uploads/2026/03/thechrisshow0007-1-e1773287526884.jpg
ORGANIZER;CN="Barn Owl Brewing":MAILTO:info@barnowlbrewing.ca
END:VEVENT
BEGIN:VEVENT
DTSTART;TZID=America/Vancouver:20260406T180000
DTEND;TZID=America/Vancouver:20260406T190000
DTSTAMP:20260419T213529
CREATED:20260220T041221Z
LAST-MODIFIED:20260312T213951Z
UID:9381-1775498400-1775502000@www.barnowlbrewing.ca
SUMMARY:Never Miss A Monday Run Club
DESCRIPTION:Join the Never Miss A Monday Run Club every Monday at 6 PM for a 30-40 minute run\, jog\, or walk! Enjoy some fresh air\, get your steps in\, and stay afterward for a pint or grab dinner from Mystic Pizza. This event is free and open to all ages and abilities. \nPlease fill out the NMAM Run Club waiver before attending your first event. The form can be found HERE.
URL:https://www.barnowlbrewing.ca/event/never-miss-a-monday-run-club-9/
LOCATION:Barn Owl Brewing\, 102-4629 Lakeshore Road\, Kelowna\, BC\, V1W 1X3\, Canada
CATEGORIES:Never Miss A Monday Run Club
ATTACH;FMTTYPE=image/png:https://www.barnowlbrewing.ca/wp-content/uploads/2026/02/Screenshot-2026-01-28-at-12.23.54-PM-e1771564331838.png
ORGANIZER;CN="Barn Owl Brewing":MAILTO:info@barnowlbrewing.ca
END:VEVENT
BEGIN:VEVENT
DTSTART;TZID=America/Vancouver:20260405T140000
DTEND;TZID=America/Vancouver:20260405T160000
DTSTAMP:20260419T213529
CREATED:20260312T033906Z
LAST-MODIFIED:20260312T033906Z
UID:9916-1775397600-1775404800@www.barnowlbrewing.ca
SUMMARY:LIVE MUSIC: Cal Volpe
DESCRIPTION:Cal is a singer-songwriter with tunes rooted in acoustic and electric guitar rhythms and melodies. Stop by The Barn and catch one of his original songs or creative covers.
URL:https://www.barnowlbrewing.ca/event/live-music-cal-volpe/
LOCATION:Private: The Loft\, 102 - 4629 Lakeshore Road\, Kelowna\, BC\, V1W 1X3\, Canada
CATEGORIES:Live Music
ATTACH;FMTTYPE=image/jpeg:https://www.barnowlbrewing.ca/wp-content/uploads/2026/03/download-1-e1773286717387.jpeg
ORGANIZER;CN="Barn Owl Brewing":MAILTO:info@barnowlbrewing.ca
END:VEVENT
BEGIN:VEVENT
DTSTART;TZID=America/Vancouver:20260401T180000
DTEND;TZID=America/Vancouver:20260401T203000
DTSTAMP:20260419T213529
CREATED:20260312T033419Z
LAST-MODIFIED:20260312T033419Z
UID:9913-1775066400-1775075400@www.barnowlbrewing.ca
SUMMARY:LIVE MUSIC: River of Kings
DESCRIPTION:Enjoy smooth melodies and great beer as River of Kings fills the loft with indie-rock tunes! \nGrab your people\, grab a beer\, order dinner from Mystic Pizza\, and enjoy this Wednesday night!
URL:https://www.barnowlbrewing.ca/event/live-music-river-of-kings/
LOCATION:Private: The Loft\, 102 - 4629 Lakeshore Road\, Kelowna\, BC\, V1W 1X3\, Canada
CATEGORIES:Live Music
ATTACH;FMTTYPE=image/jpeg:https://www.barnowlbrewing.ca/wp-content/uploads/2026/03/download-e1773286445750.jpeg
ORGANIZER;CN="Barn Owl Brewing":MAILTO:info@barnowlbrewing.ca
END:VEVENT
BEGIN:VEVENT
DTSTART;TZID=America/Vancouver:20260330T180000
DTEND;TZID=America/Vancouver:20260330T190000
DTSTAMP:20260419T213529
CREATED:20260220T041133Z
LAST-MODIFIED:20260312T213931Z
UID:9379-1774893600-1774897200@www.barnowlbrewing.ca
SUMMARY:Never Miss A Monday Run Club
DESCRIPTION:Join the Never Miss A Monday Run Club every Monday at 6 PM for a 30-40 minute run\, jog\, or walk! Enjoy some fresh air\, get your steps in\, and stay afterward for a pint or grab dinner from Mystic Pizza. This event is free and open to all ages and abilities. \nPlease fill out the NMAM Run Club waiver before attending your first event. The form can be found HERE.
URL:https://www.barnowlbrewing.ca/event/never-miss-a-monday-run-club-8/
LOCATION:Barn Owl Brewing\, 102-4629 Lakeshore Road\, Kelowna\, BC\, V1W 1X3\, Canada
CATEGORIES:Never Miss A Monday Run Club
ATTACH;FMTTYPE=image/png:https://www.barnowlbrewing.ca/wp-content/uploads/2026/02/Screenshot-2026-01-28-at-12.23.54-PM-e1771564331838.png
ORGANIZER;CN="Barn Owl Brewing":MAILTO:info@barnowlbrewing.ca
END:VEVENT
BEGIN:VEVENT
DTSTART;TZID=America/Vancouver:20260329T140000
DTEND;TZID=America/Vancouver:20260329T160000
DTSTAMP:20260419T213529
CREATED:20260312T032939Z
LAST-MODIFIED:20260312T032939Z
UID:9910-1774792800-1774800000@www.barnowlbrewing.ca
SUMMARY:LIVE MUSIC: Mark Irving
DESCRIPTION:Mark Irving\, a captivating singer/songwriter based out of Kelowna\, B.C. has been songwriting for over 25 years. After his first piano lesson at the age of 5\, it soon became clear that Mark Irving was a natural-born craftsman in musical arts. Known for his vocal and lyrical finesse and songwriting prowess\, Mark Irving’s folk-rock music and performances are truly a refreshing\, soulful experience that will leave you inspired. \nSpend your afternoon in the historic loft with your people\, enjoying Mark’s music (and a pint or two!).
URL:https://www.barnowlbrewing.ca/event/live-music-mark-irving/
LOCATION:Private: The Loft\, 102 - 4629 Lakeshore Road\, Kelowna\, BC\, V1W 1X3\, Canada
CATEGORIES:Live Music
ATTACH;FMTTYPE=image/webp:https://www.barnowlbrewing.ca/wp-content/uploads/2026/03/image-2-e1773286167690.webp
ORGANIZER;CN="Barn Owl Brewing":MAILTO:info@barnowlbrewing.ca
END:VEVENT
BEGIN:VEVENT
DTSTART;TZID=America/Vancouver:20260325T183000
DTEND;TZID=America/Vancouver:20260325T200000
DTSTAMP:20260419T213529
CREATED:20260312T032511Z
LAST-MODIFIED:20260312T032511Z
UID:9907-1774463400-1774468800@www.barnowlbrewing.ca
SUMMARY:LIVE MUSIC: Sammy Cooper
DESCRIPTION:Sammy Cooper is a musician and songwriter who draws on a wide variety of influences and styles\, creating theatrical music that takes the listener on a journey.  \nGrab a pint\, enjoy his thought-provoking lyrics\, and let his soaring melodies paint inspiring pictures. Can you think of a better way to spend your Wednesday night?!
URL:https://www.barnowlbrewing.ca/event/live-music-sammy-cooper/
LOCATION:Private: The Loft\, 102 - 4629 Lakeshore Road\, Kelowna\, BC\, V1W 1X3\, Canada
CATEGORIES:Live Music
ATTACH;FMTTYPE=image/avif:https://www.barnowlbrewing.ca/wp-content/uploads/2026/03/IMG7448_edited-e1773285892596.avif
ORGANIZER;CN="Barn Owl Brewing":MAILTO:info@barnowlbrewing.ca
END:VEVENT
BEGIN:VEVENT
DTSTART;TZID=America/Vancouver:20260323T180000
DTEND;TZID=America/Vancouver:20260323T190000
DTSTAMP:20260419T213529
CREATED:20260220T041036Z
LAST-MODIFIED:20260312T213915Z
UID:9377-1774288800-1774292400@www.barnowlbrewing.ca
SUMMARY:Never Miss A Monday Run Club
DESCRIPTION:Join the Never Miss A Monday Run Club every Monday at 6 PM for a 30-40 minute run\, jog\, or walk! Enjoy some fresh air\, get your steps in\, and stay afterward for a pint or grab dinner from Mystic Pizza. This event is free and open to all ages and abilities. \nPlease fill out the NMAM Run Club waiver before attending your first event. The form can be found HERE.
URL:https://www.barnowlbrewing.ca/event/never-miss-a-monday-run-club-7/
LOCATION:Barn Owl Brewing\, 102-4629 Lakeshore Road\, Kelowna\, BC\, V1W 1X3\, Canada
CATEGORIES:Never Miss A Monday Run Club
ATTACH;FMTTYPE=image/png:https://www.barnowlbrewing.ca/wp-content/uploads/2026/02/Screenshot-2026-01-28-at-12.23.54-PM-e1771564331838.png
ORGANIZER;CN="Barn Owl Brewing":MAILTO:info@barnowlbrewing.ca
END:VEVENT
BEGIN:VEVENT
DTSTART;TZID=America/Vancouver:20260322T170000
DTEND;TZID=America/Vancouver:20260322T193000
DTSTAMP:20260419T213529
CREATED:20260312T001444Z
LAST-MODIFIED:20260312T040241Z
UID:9896-1774198800-1774207800@www.barnowlbrewing.ca
SUMMARY:BOB Talk: Beer\, Kidneys\, and the Science of Staying Healthy
DESCRIPTION:Nephrologist Dr. Ed Welsh explores kidney health\, beer’s impact on the body\, dialysis options\, and advances in transplantation. \n\n\n\n\nJoin us at Barn Owl Brewing for an engaging\, TED Talk–style talk with Dr. Ed Welsh\, a nephrologist with over twenty years of experience practicing in Kelowna and a proud UBC graduate. Dr. Welsh will break down how the kidneys function\, how lifestyle choices – including beer consumption – can impact kidney health\, and explain the different types of dialysis used to support patients with kidney failure. \nIn this informal and accessible talk\, he will also explore advances in kidney care\, including developments in kidney and heart transplantation\, offering insight into how treatment has evolved over the years. \nGrab a drink\, settle in\, and enjoy an evening of big ideas and great conversation. Each ticket includes admission and one beverage. \n\nBuy tickets HERE.
URL:https://www.barnowlbrewing.ca/event/bob-talk-beer-kidneys-and-the-science-of-staying-healthy/
LOCATION:Barn Owl Brewing\, 102-4629 Lakeshore Road\, Kelowna\, BC\, V1W 1X3\, Canada
CATEGORIES:Ticketed Event
ATTACH;FMTTYPE=image/webp:https://www.barnowlbrewing.ca/wp-content/uploads/2026/03/BOB-Talk-e1773274474980.webp
ORGANIZER;CN="Barn Owl Brewing":MAILTO:info@barnowlbrewing.ca
END:VEVENT
BEGIN:VEVENT
DTSTART;TZID=America/Vancouver:20260322T140000
DTEND;TZID=America/Vancouver:20260322T160000
DTSTAMP:20260419T213529
CREATED:20260220T050333Z
LAST-MODIFIED:20260220T050333Z
UID:9407-1774188000-1774195200@www.barnowlbrewing.ca
SUMMARY:LIVE MUSIC: Kailee Duggan and D’Arcy Booth
DESCRIPTION:Local dynamic duo! Grab a pint\, bring your people\, and enjoy the music from these talented artists.
URL:https://www.barnowlbrewing.ca/event/live-music-kailee-duggan-and-darcy-booth/
LOCATION:Private: The Loft\, 102 - 4629 Lakeshore Road\, Kelowna\, BC\, V1W 1X3\, Canada
CATEGORIES:Live Music
ATTACH;FMTTYPE=image/png:https://www.barnowlbrewing.ca/wp-content/uploads/2026/02/Screenshot-2026-01-31-at-10.01.16-PM-e1771563778611.png
ORGANIZER;CN="Barn Owl Brewing":MAILTO:info@barnowlbrewing.ca
END:VEVENT
BEGIN:VEVENT
DTSTART;TZID=America/Vancouver:20260318T183000
DTEND;TZID=America/Vancouver:20260318T200000
DTSTAMP:20260419T213529
CREATED:20260220T045933Z
LAST-MODIFIED:20260220T051107Z
UID:9403-1773858600-1773864000@www.barnowlbrewing.ca
SUMMARY:LIVE MUSIC: Barry Mathers and Rachel Matkin
DESCRIPTION:Award-winning Canadian Americana group blending heartfelt songwriting\, harmonies\, and roots-driven music. Bring your people and enjoy some tunes in the historic loft at The Barn!
URL:https://www.barnowlbrewing.ca/event/live-music-barry-mathers-and-rachel-matkin/
LOCATION:Private: The Loft\, 102 - 4629 Lakeshore Road\, Kelowna\, BC\, V1W 1X3\, Canada
CATEGORIES:Live Music
ATTACH;FMTTYPE=image/png:https://www.barnowlbrewing.ca/wp-content/uploads/2026/02/Screenshot-2026-01-31-at-9.59.06-PM-e1771564262172.png
ORGANIZER;CN="Barn Owl Brewing":MAILTO:info@barnowlbrewing.ca
END:VEVENT
BEGIN:VEVENT
DTSTART;TZID=America/Vancouver:20260316T180000
DTEND;TZID=America/Vancouver:20260316T190000
DTSTAMP:20260419T213529
CREATED:20260220T040930Z
LAST-MODIFIED:20260312T213846Z
UID:9375-1773684000-1773687600@www.barnowlbrewing.ca
SUMMARY:Never Miss A Monday Run Club
DESCRIPTION:Join the Never Miss A Monday Run Club every Monday at 6 PM for a 30-40 minute run\, jog\, or walk! Enjoy some fresh air\, get your steps in\, and stay afterward for a pint or grab dinner from Mystic Pizza. This event is free and open to all ages and abilities. \nPlease fill out the NMAM Run Club waiver before attending your first event. The form can be found HERE.
URL:https://www.barnowlbrewing.ca/event/never-miss-a-monday-run-club-6/
LOCATION:Barn Owl Brewing\, 102-4629 Lakeshore Road\, Kelowna\, BC\, V1W 1X3\, Canada
CATEGORIES:Never Miss A Monday Run Club
ATTACH;FMTTYPE=image/png:https://www.barnowlbrewing.ca/wp-content/uploads/2026/02/Screenshot-2026-01-28-at-12.23.54-PM-e1771564331838.png
ORGANIZER;CN="Barn Owl Brewing":MAILTO:info@barnowlbrewing.ca
END:VEVENT
BEGIN:VEVENT
DTSTART;TZID=America/Vancouver:20260315T140000
DTEND;TZID=America/Vancouver:20260315T160000
DTSTAMP:20260419T213529
CREATED:20260220T045407Z
LAST-MODIFIED:20260220T051240Z
UID:9401-1773583200-1773590400@www.barnowlbrewing.ca
SUMMARY:LIVE MUSIC: Andrew Smith and Bruce Wiebe
DESCRIPTION:Andrew Smith and Bruce Wiebe bring a lively mix of folk and jazz you won’t want to miss. Grab a pint\, sit back\, and enjoy some tunes from this talented duo!
URL:https://www.barnowlbrewing.ca/event/live-music-andrew-smith-and-bruce-wiebe/
LOCATION:Private: The Loft\, 102 - 4629 Lakeshore Road\, Kelowna\, BC\, V1W 1X3\, Canada
CATEGORIES:Live Music
ATTACH;FMTTYPE=image/png:https://www.barnowlbrewing.ca/wp-content/uploads/2026/02/Screenshot-2026-01-31-at-9.50.57-PM-e1771564219630.png
ORGANIZER;CN="Barn Owl Brewing":MAILTO:info@barnowlbrewing.ca
END:VEVENT
BEGIN:VEVENT
DTSTART;TZID=America/Vancouver:20260311T183000
DTEND;TZID=America/Vancouver:20260311T200000
DTSTAMP:20260419T213529
CREATED:20260220T044800Z
LAST-MODIFIED:20260220T050940Z
UID:9398-1773253800-1773259200@www.barnowlbrewing.ca
SUMMARY:LIVE MUSIC: Nevaeh Dyson
DESCRIPTION:Nevaeh Dyson has been touring since she was 17\, sharing honest\, stripped-back originals wherever she goes. Join her live at The Barn\, bring your crew\, and enjoy a pint and some live music.
URL:https://www.barnowlbrewing.ca/event/live-music-nevaeh-dyson/
LOCATION:Private: The Loft\, 102 - 4629 Lakeshore Road\, Kelowna\, BC\, V1W 1X3\, Canada
CATEGORIES:Live Music
ATTACH;FMTTYPE=image/png:https://www.barnowlbrewing.ca/wp-content/uploads/2026/02/Screenshot-2026-01-31-at-9.46.10-PM-e1771564173570.png
ORGANIZER;CN="Barn Owl Brewing":MAILTO:info@barnowlbrewing.ca
END:VEVENT
BEGIN:VEVENT
DTSTART;TZID=America/Vancouver:20260309T180000
DTEND;TZID=America/Vancouver:20260309T190000
DTSTAMP:20260419T213529
CREATED:20260220T040838Z
LAST-MODIFIED:20260225T030050Z
UID:9371-1773079200-1773082800@www.barnowlbrewing.ca
SUMMARY:Never Miss A Monday Run Club
DESCRIPTION:Join the Never Miss A Monday Run Club every Monday at 6 PM for a 30-40 minute run\, jog\, or walk! Enjoy some fresh air\, get your steps in\, and stay afterward for a pint or grab dinner from Mystic Pizza. This event is free and open to all ages and abilities.
URL:https://www.barnowlbrewing.ca/event/never-miss-a-monday-run-club-5/
LOCATION:Barn Owl Brewing\, 102-4629 Lakeshore Road\, Kelowna\, BC\, V1W 1X3\, Canada
CATEGORIES:Never Miss A Monday Run Club
ATTACH;FMTTYPE=image/png:https://www.barnowlbrewing.ca/wp-content/uploads/2026/02/Screenshot-2026-01-28-at-12.23.54-PM-e1771564331838.png
ORGANIZER;CN="Barn Owl Brewing":MAILTO:info@barnowlbrewing.ca
END:VEVENT
BEGIN:VEVENT
DTSTART;TZID=America/Vancouver:20260308T140000
DTEND;TZID=America/Vancouver:20260308T160000
DTSTAMP:20260419T213529
CREATED:20260220T044504Z
LAST-MODIFIED:20260220T050852Z
UID:9395-1772978400-1772985600@www.barnowlbrewing.ca
SUMMARY:LIVE MUSIC: Brent Tyler
DESCRIPTION:Brent Tyler is a Western Canadian giant with a big sound and even bigger heart\, blending folk\, roots\, and soul with percussive guitar and soaring vocals. Catch him live at The Barn\, enjoy his storytelling and authentic tunes\, and grab a pint with your people.
URL:https://www.barnowlbrewing.ca/event/live-music-brent-tyler/
LOCATION:Private: The Loft\, 102 - 4629 Lakeshore Road\, Kelowna\, BC\, V1W 1X3\, Canada
CATEGORIES:Live Music
ATTACH;FMTTYPE=image/png:https://www.barnowlbrewing.ca/wp-content/uploads/2026/02/Screenshot-2026-01-31-at-9.44.37-PM-e1771564125430.png
ORGANIZER;CN="Barn Owl Brewing":MAILTO:info@barnowlbrewing.ca
END:VEVENT
BEGIN:VEVENT
DTSTART;TZID=America/Vancouver:20260304T183000
DTEND;TZID=America/Vancouver:20260304T200000
DTSTAMP:20260419T213529
CREATED:20260220T044131Z
LAST-MODIFIED:20260220T050750Z
UID:9392-1772649000-1772654400@www.barnowlbrewing.ca
SUMMARY:LIVE MUSIC: Shalisa
DESCRIPTION:Local singer-songwriter Shalisa blends country and roots with a pop\, rock\, and blues edge. Catch her live at The Barn and enjoy some good tunes.
URL:https://www.barnowlbrewing.ca/event/live-music-shalisa/
LOCATION:Private: The Loft\, 102 - 4629 Lakeshore Road\, Kelowna\, BC\, V1W 1X3\, Canada
CATEGORIES:Live Music
ATTACH;FMTTYPE=image/png:https://www.barnowlbrewing.ca/wp-content/uploads/2026/02/Screenshot-2026-01-31-at-9.39.20-PM-e1771564063857.png
ORGANIZER;CN="Barn Owl Brewing":MAILTO:info@barnowlbrewing.ca
END:VEVENT
BEGIN:VEVENT
DTSTART;TZID=America/Vancouver:20260302T180000
DTEND;TZID=America/Vancouver:20260302T190000
DTSTAMP:20260419T213529
CREATED:20260220T040653Z
LAST-MODIFIED:20260225T030032Z
UID:9369-1772474400-1772478000@www.barnowlbrewing.ca
SUMMARY:Never Miss A Monday Run Club
DESCRIPTION:Join the Never Miss A Monday Run Club every Monday at 6 PM for a 30-40 minute run\, jog\, or walk! Enjoy some fresh air\, get your steps in\, and stay afterward for a pint or grab dinner from Mystic Pizza. This event is free and open to all ages and abilities.
URL:https://www.barnowlbrewing.ca/event/never-miss-a-monday-run-club-4/
LOCATION:Barn Owl Brewing\, 102-4629 Lakeshore Road\, Kelowna\, BC\, V1W 1X3\, Canada
CATEGORIES:Never Miss A Monday Run Club
ATTACH;FMTTYPE=image/png:https://www.barnowlbrewing.ca/wp-content/uploads/2026/02/Screenshot-2026-01-28-at-12.23.54-PM-e1771564331838.png
ORGANIZER;CN="Barn Owl Brewing":MAILTO:info@barnowlbrewing.ca
END:VEVENT
BEGIN:VEVENT
DTSTART;TZID=America/Vancouver:20260301T140000
DTEND;TZID=America/Vancouver:20260301T160000
DTSTAMP:20260419T213529
CREATED:20260220T043508Z
LAST-MODIFIED:20260220T050659Z
UID:9389-1772373600-1772380800@www.barnowlbrewing.ca
SUMMARY:LIVE MUSIC: Kristi Neuman
DESCRIPTION:Born in Montana and shaped by years in Nashville\, Kristi brings unique songwriting and a strong stage presence to every show. Join us in The Loft for some tunes and delicious craft beer!
URL:https://www.barnowlbrewing.ca/event/live-music-kristi-neuman/
LOCATION:Private: The Loft\, 102 - 4629 Lakeshore Road\, Kelowna\, BC\, V1W 1X3\, Canada
CATEGORIES:Live Music
ATTACH;FMTTYPE=image/jpeg:https://www.barnowlbrewing.ca/wp-content/uploads/2026/02/kristi107-e1771564014482.jpg
ORGANIZER;CN="Barn Owl Brewing":MAILTO:info@barnowlbrewing.ca
END:VEVENT
BEGIN:VEVENT
DTSTART;TZID=America/Vancouver:20260225T183000
DTEND;TZID=America/Vancouver:20260225T200000
DTSTAMP:20260419T213529
CREATED:20260220T042923Z
LAST-MODIFIED:20260220T050624Z
UID:9386-1772044200-1772049600@www.barnowlbrewing.ca
SUMMARY:LIVE MUSIC: Nico Boesten
DESCRIPTION:From playing different venues and street corners in Europe to performing at The Barn\, Nico brings a mix of funky folk\, jazzy soul\, originals\, and 70s favourites. Catch him live in the Historic Loft at Barn Owl Brewing and grab a pint with your people.
URL:https://www.barnowlbrewing.ca/event/live-music-nico-boesten/
LOCATION:Private: The Loft\, 102 - 4629 Lakeshore Road\, Kelowna\, BC\, V1W 1X3\, Canada
CATEGORIES:Live Music
ATTACH;FMTTYPE=image/png:https://www.barnowlbrewing.ca/wp-content/uploads/2026/02/Screenshot-2026-01-31-at-9.28.44-PM-e1771563978510.png
ORGANIZER;CN="Barn Owl Brewing":MAILTO:info@barnowlbrewing.ca
END:VEVENT
BEGIN:VEVENT
DTSTART;TZID=America/Vancouver:20260223T180000
DTEND;TZID=America/Vancouver:20260223T190000
DTSTAMP:20260419T213529
CREATED:20260220T040503Z
LAST-MODIFIED:20260220T051449Z
UID:9367-1771869600-1771873200@www.barnowlbrewing.ca
SUMMARY:Never Miss a Monday Run Club
DESCRIPTION:Join the Never Miss A Monday Run Club every Monday at 6 PM for a 30-40 minute run\, jog\, or walk! Enjoy some fresh air\, get your steps in\, and stay afterward for a pint or grab dinner from Mystic Oak Pizza. This event is free and open to all ages and abilities.
URL:https://www.barnowlbrewing.ca/event/never-miss-a-monday-run-club-3/
LOCATION:Barn Owl Brewing\, 102-4629 Lakeshore Road\, Kelowna\, BC\, V1W 1X3\, Canada
CATEGORIES:Never Miss A Monday Run Club
ATTACH;FMTTYPE=image/png:https://www.barnowlbrewing.ca/wp-content/uploads/2026/02/Screenshot-2026-01-28-at-12.23.54-PM-e1771564331838.png
ORGANIZER;CN="Barn Owl Brewing":MAILTO:info@barnowlbrewing.ca
END:VEVENT
BEGIN:VEVENT
DTSTART;TZID=America/Vancouver:20260222T140000
DTEND;TZID=America/Vancouver:20260222T160000
DTSTAMP:20260419T213529
CREATED:20260220T042127Z
LAST-MODIFIED:20260220T050539Z
UID:9383-1771768800-1771776000@www.barnowlbrewing.ca
SUMMARY:LIVE MUSIC: Josh Smith
DESCRIPTION:Stop by The Barn this Sunday between 2-4PM and enjoy some free live music provided by the incredibly talented singer-songwriter Josh Smith! Bring your people\, grab a pint\, and enjoy.
URL:https://www.barnowlbrewing.ca/event/live-music-josh-smith/
LOCATION:Private: The Loft\, 102 - 4629 Lakeshore Road\, Kelowna\, BC\, V1W 1X3\, Canada
CATEGORIES:Live Music
ATTACH;FMTTYPE=image/png:https://www.barnowlbrewing.ca/wp-content/uploads/2026/02/Screenshot-2026-01-31-at-9.19.41-PM-e1771563931772.png
ORGANIZER;CN="Barn Owl Brewing":MAILTO:info@barnowlbrewing.ca
END:VEVENT
END:VCALENDAR