BEGIN:VCALENDAR
VERSION:2.0
PRODID:-//Barn Owl Brewing - ECPv6.15.15//NONSGML v1.0//EN
CALSCALE:GREGORIAN
METHOD:PUBLISH
X-WR-CALNAME:Barn Owl Brewing
X-ORIGINAL-URL:https://www.barnowlbrewing.ca
X-WR-CALDESC:Events for Barn Owl Brewing
REFRESH-INTERVAL;VALUE=DURATION:PT1H
X-Robots-Tag:noindex
X-PUBLISHED-TTL:PT1H
BEGIN:VTIMEZONE
TZID:America/Vancouver
BEGIN:DAYLIGHT
TZOFFSETFROM:-0800
TZOFFSETTO:-0700
TZNAME:PDT
DTSTART:20250309T100000
END:DAYLIGHT
BEGIN:STANDARD
TZOFFSETFROM:-0700
TZOFFSETTO:-0800
TZNAME:PST
DTSTART:20251102T090000
END:STANDARD
BEGIN:DAYLIGHT
TZOFFSETFROM:-0800
TZOFFSETTO:-0700
TZNAME:PDT
DTSTART:20260308T100000
END:DAYLIGHT
BEGIN:STANDARD
TZOFFSETFROM:-0700
TZOFFSETTO:-0800
TZNAME:PST
DTSTART:20261101T090000
END:STANDARD
BEGIN:DAYLIGHT
TZOFFSETFROM:-0800
TZOFFSETTO:-0700
TZNAME:PDT
DTSTART:20270314T100000
END:DAYLIGHT
BEGIN:STANDARD
TZOFFSETFROM:-0700
TZOFFSETTO:-0800
TZNAME:PST
DTSTART:20271107T090000
END:STANDARD
END:VTIMEZONE
BEGIN:VEVENT
DTSTART;TZID=America/Vancouver:20260412T140000
DTEND;TZID=America/Vancouver:20260412T160000
DTSTAMP:20260419T094844
CREATED:20260312T035736Z
LAST-MODIFIED:20260312T035736Z
UID:9922-1776002400-1776009600@www.barnowlbrewing.ca
SUMMARY:LIVE MUSIC: Josh Smith
DESCRIPTION:Joshua Smith is a Maritime singer-songwriter living in the Okanagan. Stop by The Barn this Sunday between 2-4PM and enjoy some live music – no cover! \nBring your people\, grab a pint\, and enjoy.
URL:https://www.barnowlbrewing.ca/event/live-music-josh-smith-2/
LOCATION:Private: The Loft\, 102 - 4629 Lakeshore Road\, Kelowna\, BC\, V1W 1X3\, Canada
CATEGORIES:Live Music
ATTACH;FMTTYPE=image/png:https://www.barnowlbrewing.ca/wp-content/uploads/2026/02/Screenshot-2026-01-31-at-9.19.41-PM-e1771563931772.png
ORGANIZER;CN="Barn Owl Brewing":MAILTO:info@barnowlbrewing.ca
END:VEVENT
BEGIN:VEVENT
DTSTART;TZID=America/Vancouver:20260413T180000
DTEND;TZID=America/Vancouver:20260413T190000
DTSTAMP:20260419T094844
CREATED:20260318T214535Z
LAST-MODIFIED:20260318T214535Z
UID:9998-1776103200-1776106800@www.barnowlbrewing.ca
SUMMARY:Never Miss A Monday Run Club
DESCRIPTION:Join the Never Miss A Monday Run Club every Monday at 6 PM for a 30-40 minute run\, jog\, or walk! Enjoy some fresh air\, get your steps in\, and stay afterward for a pint or grab dinner from Mystic Pizza. This event is free and open to all ages and abilities. \nPlease fill out the NMAM Run Club waiver before attending your first event. The form can be found HERE.
URL:https://www.barnowlbrewing.ca/event/never-miss-a-monday-run-club-10/
LOCATION:Barn Owl Brewing\, 102-4629 Lakeshore Road\, Kelowna\, BC\, V1W 1X3\, Canada
CATEGORIES:Never Miss A Monday Run Club
ATTACH;FMTTYPE=image/png:https://www.barnowlbrewing.ca/wp-content/uploads/2026/02/Screenshot-2026-01-28-at-12.23.54-PM-e1771564331838.png
ORGANIZER;CN="Barn Owl Brewing":MAILTO:info@barnowlbrewing.ca
END:VEVENT
BEGIN:VEVENT
DTSTART;TZID=America/Vancouver:20260415T183000
DTEND;TZID=America/Vancouver:20260415T200000
DTSTAMP:20260419T094844
CREATED:20260312T040135Z
LAST-MODIFIED:20260408T211927Z
UID:9924-1776277800-1776283200@www.barnowlbrewing.ca
SUMMARY:LIVE MUSIC: Giselle Sanderson
DESCRIPTION:After becoming a Juno & CCMA Nominated Singer-Songwriter\, Giselle has solidified her place in the Canadian country music scene. Throughout her career\, she has built a reputation not only for her vocal talent but also for her exceptional skills as a songwriter. \nStop by The Barn and enjoy some tunes full of powerful storytelling and heartfelt emotion.
URL:https://www.barnowlbrewing.ca/event/live-music-giselle-sanderson/
LOCATION:Private: The Loft\, 102 - 4629 Lakeshore Road\, Kelowna\, BC\, V1W 1X3\, Canada
CATEGORIES:Live Music
ATTACH;FMTTYPE=image/jpeg:https://www.barnowlbrewing.ca/wp-content/uploads/2026/03/download-2-e1773288053158.jpeg
ORGANIZER;CN="Barn Owl Brewing":MAILTO:info@barnowlbrewing.ca
END:VEVENT
BEGIN:VEVENT
DTSTART;TZID=America/Vancouver:20260416T173000
DTEND;TZID=America/Vancouver:20260416T200000
DTSTAMP:20260419T094844
CREATED:20260312T002017Z
LAST-MODIFIED:20260312T002225Z
UID:9900-1776360600-1776369600@www.barnowlbrewing.ca
SUMMARY:Fuckup Nights Kelowna - Bad Decisions and Great Stories
DESCRIPTION:Fuckup Nights is a global movement where entrepreneurs openly share stories of professional failure and crashes to destigmatize failure \n\n\n\n\nFuckup Nights is a global movement and event series where entrepreneurs\, business leaders\, and professionals openly share stories of professional failure\, crashes\, and mistakes to destigmatize “failing”. It aims to turn these experiences into lessons for growth\, innovation\, and psychological safety\, fostering community through honest\, vulnerable storytelling. \nKey Aspects of Fuckup Nights: \n\nCore Purpose: Breaks the taboo around failure\, reshapes perceptions of mistakes\, and promotes learning.\nEvent Format: Typically features 3–4 speakers sharing stories about businesses that failed\, sour partnerships\, or product recalls in a relaxed\, social atmosphere.\nScope: Operates in 250+ cities across 70+ countries.\n\nBuy tickets HERE.
URL:https://www.barnowlbrewing.ca/event/fuckup-nights-kelowna-bad-decisions-and-great-stories/
LOCATION:Barn Owl Brewing\, 102-4629 Lakeshore Road\, Kelowna\, BC\, V1W 1X3\, Canada
CATEGORIES:Ticketed Event
ATTACH;FMTTYPE=image/webp:https://www.barnowlbrewing.ca/wp-content/uploads/2026/03/image.webp
END:VEVENT
BEGIN:VEVENT
DTSTART;TZID=America/Vancouver:20260419T140000
DTEND;TZID=America/Vancouver:20260419T160000
DTSTAMP:20260419T094844
CREATED:20260312T040358Z
LAST-MODIFIED:20260312T040358Z
UID:9928-1776607200-1776614400@www.barnowlbrewing.ca
SUMMARY:LIVE MUSIC: Kristi Neuman
DESCRIPTION:Born in Montana and shaped by years in Nashville\, Kristi brings unique songwriting and a strong stage presence to every show. Join us in The Loft for some tunes and delicious craft beer!
URL:https://www.barnowlbrewing.ca/event/live-music-kristi-neuman-2/
LOCATION:Private: The Loft\, 102 - 4629 Lakeshore Road\, Kelowna\, BC\, V1W 1X3\, Canada
CATEGORIES:Live Music
ATTACH;FMTTYPE=image/jpeg:https://www.barnowlbrewing.ca/wp-content/uploads/2026/02/kristi107-e1771564014482.jpg
ORGANIZER;CN="Barn Owl Brewing":MAILTO:info@barnowlbrewing.ca
END:VEVENT
BEGIN:VEVENT
DTSTART;TZID=America/Vancouver:20260419T170000
DTEND;TZID=America/Vancouver:20260419T190000
DTSTAMP:20260419T094844
CREATED:20260325T162016Z
LAST-MODIFIED:20260404T205931Z
UID:10012-1776618000-1776625200@www.barnowlbrewing.ca
SUMMARY:BOB Talk - Gardening with Nature: Unhosed
DESCRIPTION:Climate change is impacting our environment more than ever. Our region is predicted to get less precipitation\, both in terms of rain and snow\, and in turn experience more frequent and severe wildfires as well as drought conditions. Two options are available to combat water shortages: store more water where possible\, or use less of our existing water. \nSigrie Kendrick\, Executive Director of the Okanagan Xeriscape Association\, will discuss climate-resilient landscaping. Her passion for gardening was fostered through her Australian grandfather\, and by living in Saudi Arabia\, where a day of rain is cause for a national holiday. Gardening with an emphasis on water conservation is her focus. \n\nGrab a drink\, settle in\, and enjoy an evening of big ideas and great conversation. Each ticket includes admission and one beverage. \n\nBuy tickets HERE.
URL:https://www.barnowlbrewing.ca/event/bob-talk-gardening-with-nature-unhosed/
LOCATION:Private: The Loft\, 102 - 4629 Lakeshore Road\, Kelowna\, BC\, V1W 1X3\, Canada
CATEGORIES:BOB Talk,Ticketed Event
ATTACH;FMTTYPE=image/png:https://www.barnowlbrewing.ca/wp-content/uploads/2026/03/Screenshot-2026-03-14-at-3.11.03-AM-e1775336366466.png
ORGANIZER;CN="Barn Owl Brewing":MAILTO:info@barnowlbrewing.ca
END:VEVENT
BEGIN:VEVENT
DTSTART;TZID=America/Vancouver:20260420T180000
DTEND;TZID=America/Vancouver:20260420T190000
DTSTAMP:20260419T094844
CREATED:20260318T214634Z
LAST-MODIFIED:20260318T214634Z
UID:10000-1776708000-1776711600@www.barnowlbrewing.ca
SUMMARY:Never Miss A Monday Run Club
DESCRIPTION:Join the Never Miss A Monday Run Club every Monday at 6 PM for a 30-40 minute run\, jog\, or walk! Enjoy some fresh air\, get your steps in\, and stay afterward for a pint or grab dinner from Mystic Pizza. This event is free and open to all ages and abilities. \nPlease fill out the NMAM Run Club waiver before attending your first event. The form can be found HERE.
URL:https://www.barnowlbrewing.ca/event/never-miss-a-monday-run-club-11/
LOCATION:Barn Owl Brewing\, 102-4629 Lakeshore Road\, Kelowna\, BC\, V1W 1X3\, Canada
CATEGORIES:Never Miss A Monday Run Club
ATTACH;FMTTYPE=image/png:https://www.barnowlbrewing.ca/wp-content/uploads/2026/02/Screenshot-2026-01-28-at-12.23.54-PM-e1771564331838.png
ORGANIZER;CN="Barn Owl Brewing":MAILTO:info@barnowlbrewing.ca
END:VEVENT
BEGIN:VEVENT
DTSTART;TZID=America/Vancouver:20260422T183000
DTEND;TZID=America/Vancouver:20260422T200000
DTSTAMP:20260419T094844
CREATED:20260312T040819Z
LAST-MODIFIED:20260408T211936Z
UID:9930-1776882600-1776888000@www.barnowlbrewing.ca
SUMMARY:LIVE MUSIC: Jeff Johnson
DESCRIPTION:Jeff Johnson is a Canadian Country Music Association award-winning producer of the year\, Juno-nominated producer and songwriter of the year and a multiple British Columbia Country Music Association award winner\, including 5-time producer of the year and one-time songwriter of the year. \nJeff has co-written and produced two number #1 albums\, a gold-selling album and a gold-selling single in country and pop. Jeff has worked with the likes of Dallas Smith\, George Canyon\, Joey Moi\, Faber Drive\, Jet Black Stare\, Meghan Patrick\, Chris Buck Band\, Tyler Joe Miller and many others. \nStill not convinced? Stop by The Barn and see what’s to love!
URL:https://www.barnowlbrewing.ca/event/live-music-jeff-johnson/
LOCATION:Private: The Loft\, 102 - 4629 Lakeshore Road\, Kelowna\, BC\, V1W 1X3\, Canada
CATEGORIES:Live Music
ATTACH;FMTTYPE=image/jpeg:https://www.barnowlbrewing.ca/wp-content/uploads/2026/03/download-3-e1773288472344.jpeg
ORGANIZER;CN="Barn Owl Brewing":MAILTO:info@barnowlbrewing.ca
END:VEVENT
BEGIN:VEVENT
DTSTART;TZID=America/Vancouver:20260426T140000
DTEND;TZID=America/Vancouver:20260426T160000
DTSTAMP:20260419T094844
CREATED:20260312T041257Z
LAST-MODIFIED:20260312T041257Z
UID:9934-1777212000-1777219200@www.barnowlbrewing.ca
SUMMARY:LIVE MUSIC: Ari Neufeld
DESCRIPTION:Ari Neufeld is a one-man band\, redefining what it means to make music. This Canadian singer-songwriter turns his entire body into an instrument: guitar in hand\, feet stomping out rhythm and knees keeping time with percussive tools.\n\nStop by this Sunday afternoon and check it out.
URL:https://www.barnowlbrewing.ca/event/live-music-ari-neufeld/
LOCATION:Private: The Loft\, 102 - 4629 Lakeshore Road\, Kelowna\, BC\, V1W 1X3\, Canada
CATEGORIES:Live Music
ATTACH;FMTTYPE=image/jpeg:https://www.barnowlbrewing.ca/wp-content/uploads/2026/03/download-4-e1773288766487.jpeg
ORGANIZER;CN="Barn Owl Brewing":MAILTO:info@barnowlbrewing.ca
END:VEVENT
BEGIN:VEVENT
DTSTART;TZID=America/Vancouver:20260427T180000
DTEND;TZID=America/Vancouver:20260427T190000
DTSTAMP:20260419T094844
CREATED:20260318T214728Z
LAST-MODIFIED:20260318T214728Z
UID:10002-1777312800-1777316400@www.barnowlbrewing.ca
SUMMARY:Never Miss A Monday Run Club
DESCRIPTION:Join the Never Miss A Monday Run Club every Monday at 6 PM for a 30-40 minute run\, jog\, or walk! Enjoy some fresh air\, get your steps in\, and stay afterward for a pint or grab dinner from Mystic Pizza. This event is free and open to all ages and abilities. \nPlease fill out the NMAM Run Club waiver before attending your first event. The form can be found HERE.
URL:https://www.barnowlbrewing.ca/event/never-miss-a-monday-run-club-12/
LOCATION:Barn Owl Brewing\, 102-4629 Lakeshore Road\, Kelowna\, BC\, V1W 1X3\, Canada
CATEGORIES:Never Miss A Monday Run Club
ATTACH;FMTTYPE=image/png:https://www.barnowlbrewing.ca/wp-content/uploads/2026/02/Screenshot-2026-01-28-at-12.23.54-PM-e1771564331838.png
ORGANIZER;CN="Barn Owl Brewing":MAILTO:info@barnowlbrewing.ca
END:VEVENT
BEGIN:VEVENT
DTSTART;TZID=America/Vancouver:20260429T183000
DTEND;TZID=America/Vancouver:20260429T200000
DTSTAMP:20260419T094844
CREATED:20260312T042022Z
LAST-MODIFIED:20260408T211946Z
UID:9937-1777487400-1777492800@www.barnowlbrewing.ca
SUMMARY:LIVE MUSIC: Rick ‘Poppa Dawg’ Halisheff
DESCRIPTION:Rick “Poppa Dawg” Halisheff is known for his scorching guitar and powerful vocals\, and has been a mainstay on the Western Canadian blues scene for over 25 years. \nSpend your Wednesday evening enjoying some tunes and a pint – no cover!
URL:https://www.barnowlbrewing.ca/event/live-music-rick-poppa-dawg-halisheff/
LOCATION:Private: The Loft\, 102 - 4629 Lakeshore Road\, Kelowna\, BC\, V1W 1X3\, Canada
CATEGORIES:Live Music
ATTACH;FMTTYPE=image/webp:https://www.barnowlbrewing.ca/wp-content/uploads/2026/03/meta_eyJzcmNCdWNrZXQiOiJiemdsZmlsZXMifQ-1-e1773289206825.webp
ORGANIZER;CN="Barn Owl Brewing":MAILTO:info@barnowlbrewing.ca
END:VEVENT
BEGIN:VEVENT
DTSTART;TZID=America/Vancouver:20260504T180000
DTEND;TZID=America/Vancouver:20260504T190000
DTSTAMP:20260419T094844
CREATED:20260318T214812Z
LAST-MODIFIED:20260318T215130Z
UID:10004-1777917600-1777921200@www.barnowlbrewing.ca
SUMMARY:Never Miss A Monday Run Club
DESCRIPTION:Join the Never Miss A Monday Run Club every Monday at 6 PM for a 30-40 minute run\, jog\, or walk! Enjoy some fresh air\, get your steps in\, and stay afterward for a pint or grab dinner from Mystic Pizza. This event is free and open to all ages and abilities. \nPlease fill out the NMAM Run Club waiver before attending your first event. The form can be found HERE.
URL:https://www.barnowlbrewing.ca/event/never-miss-a-monday-run-club-13/
LOCATION:Barn Owl Brewing\, 102-4629 Lakeshore Road\, Kelowna\, BC\, V1W 1X3\, Canada
CATEGORIES:Never Miss A Monday Run Club
ATTACH;FMTTYPE=image/png:https://www.barnowlbrewing.ca/wp-content/uploads/2026/02/Screenshot-2026-01-28-at-12.23.54-PM-e1771564331838.png
ORGANIZER;CN="Barn Owl Brewing":MAILTO:info@barnowlbrewing.ca
END:VEVENT
BEGIN:VEVENT
DTSTART;TZID=America/Vancouver:20260511T180000
DTEND;TZID=America/Vancouver:20260511T190000
DTSTAMP:20260419T094844
CREATED:20260318T214905Z
LAST-MODIFIED:20260318T214905Z
UID:10006-1778522400-1778526000@www.barnowlbrewing.ca
SUMMARY:Never Miss A Monday Run Club
DESCRIPTION:Join the Never Miss A Monday Run Club every Monday at 6 PM for a 30-40 minute run\, jog\, or walk! Enjoy some fresh air\, get your steps in\, and stay afterward for a pint or grab dinner from Mystic Pizza. This event is free and open to all ages and abilities. \nPlease fill out the NMAM Run Club waiver before attending your first event. The form can be found HERE.
URL:https://www.barnowlbrewing.ca/event/never-miss-a-monday-run-club-14/
LOCATION:Barn Owl Brewing\, 102-4629 Lakeshore Road\, Kelowna\, BC\, V1W 1X3\, Canada
CATEGORIES:Never Miss A Monday Run Club
ATTACH;FMTTYPE=image/png:https://www.barnowlbrewing.ca/wp-content/uploads/2026/02/Screenshot-2026-01-28-at-12.23.54-PM-e1771564331838.png
ORGANIZER;CN="Barn Owl Brewing":MAILTO:info@barnowlbrewing.ca
END:VEVENT
BEGIN:VEVENT
DTSTART;TZID=America/Vancouver:20260518T180000
DTEND;TZID=America/Vancouver:20260518T190000
DTSTAMP:20260419T094844
CREATED:20260318T215010Z
LAST-MODIFIED:20260318T215010Z
UID:10008-1779127200-1779130800@www.barnowlbrewing.ca
SUMMARY:Never Miss A Monday Run Club
DESCRIPTION:Join the Never Miss A Monday Run Club every Monday at 6 PM for a 30-40 minute run\, jog\, or walk! Enjoy some fresh air\, get your steps in\, and stay afterward for a pint or grab dinner from Mystic Pizza. This event is free and open to all ages and abilities. \nPlease fill out the NMAM Run Club waiver before attending your first event. The form can be found HERE.
URL:https://www.barnowlbrewing.ca/event/never-miss-a-monday-run-club-15/
LOCATION:Barn Owl Brewing\, 102-4629 Lakeshore Road\, Kelowna\, BC\, V1W 1X3\, Canada
CATEGORIES:Never Miss A Monday Run Club
ATTACH;FMTTYPE=image/png:https://www.barnowlbrewing.ca/wp-content/uploads/2026/02/Screenshot-2026-01-28-at-12.23.54-PM-e1771564331838.png
ORGANIZER;CN="Barn Owl Brewing":MAILTO:info@barnowlbrewing.ca
END:VEVENT
BEGIN:VEVENT
DTSTART;TZID=America/Vancouver:20260525T180000
DTEND;TZID=America/Vancouver:20260525T190000
DTSTAMP:20260419T094844
CREATED:20260318T215115Z
LAST-MODIFIED:20260318T215115Z
UID:10010-1779732000-1779735600@www.barnowlbrewing.ca
SUMMARY:Never Miss A Monday Run Club
DESCRIPTION:Join the Never Miss A Monday Run Club every Monday at 6 PM for a 30-40 minute run\, jog\, or walk! Enjoy some fresh air\, get your steps in\, and stay afterward for a pint or grab dinner from Mystic Pizza. This event is free and open to all ages and abilities. \nPlease fill out the NMAM Run Club waiver before attending your first event. The form can be found HERE.
URL:https://www.barnowlbrewing.ca/event/never-miss-a-monday-run-club-16/
LOCATION:Barn Owl Brewing\, 102-4629 Lakeshore Road\, Kelowna\, BC\, V1W 1X3\, Canada
CATEGORIES:Never Miss A Monday Run Club
ATTACH;FMTTYPE=image/png:https://www.barnowlbrewing.ca/wp-content/uploads/2026/02/Screenshot-2026-01-28-at-12.23.54-PM-e1771564331838.png
ORGANIZER;CN="Barn Owl Brewing":MAILTO:info@barnowlbrewing.ca
END:VEVENT
END:VCALENDAR