BEGIN:VCALENDAR
VERSION:2.0
PRODID:-//Barn Owl Brewing - ECPv6.15.15//NONSGML v1.0//EN
CALSCALE:GREGORIAN
METHOD:PUBLISH
X-WR-CALNAME:Barn Owl Brewing
X-ORIGINAL-URL:https://www.barnowlbrewing.ca
X-WR-CALDESC:Events for Barn Owl Brewing
REFRESH-INTERVAL;VALUE=DURATION:PT1H
X-Robots-Tag:noindex
X-PUBLISHED-TTL:PT1H
BEGIN:VTIMEZONE
TZID:America/Vancouver
BEGIN:DAYLIGHT
TZOFFSETFROM:-0800
TZOFFSETTO:-0700
TZNAME:PDT
DTSTART:20250309T100000
END:DAYLIGHT
BEGIN:STANDARD
TZOFFSETFROM:-0700
TZOFFSETTO:-0800
TZNAME:PST
DTSTART:20251102T090000
END:STANDARD
BEGIN:DAYLIGHT
TZOFFSETFROM:-0800
TZOFFSETTO:-0700
TZNAME:PDT
DTSTART:20260308T100000
END:DAYLIGHT
BEGIN:STANDARD
TZOFFSETFROM:-0700
TZOFFSETTO:-0800
TZNAME:PST
DTSTART:20261101T090000
END:STANDARD
BEGIN:DAYLIGHT
TZOFFSETFROM:-0800
TZOFFSETTO:-0700
TZNAME:PDT
DTSTART:20270314T100000
END:DAYLIGHT
BEGIN:STANDARD
TZOFFSETFROM:-0700
TZOFFSETTO:-0800
TZNAME:PST
DTSTART:20271107T090000
END:STANDARD
END:VTIMEZONE
BEGIN:VEVENT
DTSTART;TZID=America/Vancouver:20260420T180000
DTEND;TZID=America/Vancouver:20260420T190000
DTSTAMP:20260424T041306
CREATED:20260318T214634Z
LAST-MODIFIED:20260318T214634Z
UID:10000-1776708000-1776711600@www.barnowlbrewing.ca
SUMMARY:Never Miss A Monday Run Club
DESCRIPTION:Join the Never Miss A Monday Run Club every Monday at 6 PM for a 30-40 minute run\, jog\, or walk! Enjoy some fresh air\, get your steps in\, and stay afterward for a pint or grab dinner from Mystic Pizza. This event is free and open to all ages and abilities. \nPlease fill out the NMAM Run Club waiver before attending your first event. The form can be found HERE.
URL:https://www.barnowlbrewing.ca/event/never-miss-a-monday-run-club-11/
LOCATION:Barn Owl Brewing\, 102-4629 Lakeshore Road\, Kelowna\, BC\, V1W 1X3\, Canada
CATEGORIES:Never Miss A Monday Run Club
ATTACH;FMTTYPE=image/png:https://www.barnowlbrewing.ca/wp-content/uploads/2026/02/Screenshot-2026-01-28-at-12.23.54-PM-e1771564331838.png
ORGANIZER;CN="Barn Owl Brewing":MAILTO:info@barnowlbrewing.ca
END:VEVENT
BEGIN:VEVENT
DTSTART;TZID=America/Vancouver:20260413T180000
DTEND;TZID=America/Vancouver:20260413T190000
DTSTAMP:20260424T041306
CREATED:20260318T214535Z
LAST-MODIFIED:20260318T214535Z
UID:9998-1776103200-1776106800@www.barnowlbrewing.ca
SUMMARY:Never Miss A Monday Run Club
DESCRIPTION:Join the Never Miss A Monday Run Club every Monday at 6 PM for a 30-40 minute run\, jog\, or walk! Enjoy some fresh air\, get your steps in\, and stay afterward for a pint or grab dinner from Mystic Pizza. This event is free and open to all ages and abilities. \nPlease fill out the NMAM Run Club waiver before attending your first event. The form can be found HERE.
URL:https://www.barnowlbrewing.ca/event/never-miss-a-monday-run-club-10/
LOCATION:Barn Owl Brewing\, 102-4629 Lakeshore Road\, Kelowna\, BC\, V1W 1X3\, Canada
CATEGORIES:Never Miss A Monday Run Club
ATTACH;FMTTYPE=image/png:https://www.barnowlbrewing.ca/wp-content/uploads/2026/02/Screenshot-2026-01-28-at-12.23.54-PM-e1771564331838.png
ORGANIZER;CN="Barn Owl Brewing":MAILTO:info@barnowlbrewing.ca
END:VEVENT
BEGIN:VEVENT
DTSTART;TZID=America/Vancouver:20260406T180000
DTEND;TZID=America/Vancouver:20260406T190000
DTSTAMP:20260424T041306
CREATED:20260220T041221Z
LAST-MODIFIED:20260312T213951Z
UID:9381-1775498400-1775502000@www.barnowlbrewing.ca
SUMMARY:Never Miss A Monday Run Club
DESCRIPTION:Join the Never Miss A Monday Run Club every Monday at 6 PM for a 30-40 minute run\, jog\, or walk! Enjoy some fresh air\, get your steps in\, and stay afterward for a pint or grab dinner from Mystic Pizza. This event is free and open to all ages and abilities. \nPlease fill out the NMAM Run Club waiver before attending your first event. The form can be found HERE.
URL:https://www.barnowlbrewing.ca/event/never-miss-a-monday-run-club-9/
LOCATION:Barn Owl Brewing\, 102-4629 Lakeshore Road\, Kelowna\, BC\, V1W 1X3\, Canada
CATEGORIES:Never Miss A Monday Run Club
ATTACH;FMTTYPE=image/png:https://www.barnowlbrewing.ca/wp-content/uploads/2026/02/Screenshot-2026-01-28-at-12.23.54-PM-e1771564331838.png
ORGANIZER;CN="Barn Owl Brewing":MAILTO:info@barnowlbrewing.ca
END:VEVENT
BEGIN:VEVENT
DTSTART;TZID=America/Vancouver:20260330T180000
DTEND;TZID=America/Vancouver:20260330T190000
DTSTAMP:20260424T041306
CREATED:20260220T041133Z
LAST-MODIFIED:20260312T213931Z
UID:9379-1774893600-1774897200@www.barnowlbrewing.ca
SUMMARY:Never Miss A Monday Run Club
DESCRIPTION:Join the Never Miss A Monday Run Club every Monday at 6 PM for a 30-40 minute run\, jog\, or walk! Enjoy some fresh air\, get your steps in\, and stay afterward for a pint or grab dinner from Mystic Pizza. This event is free and open to all ages and abilities. \nPlease fill out the NMAM Run Club waiver before attending your first event. The form can be found HERE.
URL:https://www.barnowlbrewing.ca/event/never-miss-a-monday-run-club-8/
LOCATION:Barn Owl Brewing\, 102-4629 Lakeshore Road\, Kelowna\, BC\, V1W 1X3\, Canada
CATEGORIES:Never Miss A Monday Run Club
ATTACH;FMTTYPE=image/png:https://www.barnowlbrewing.ca/wp-content/uploads/2026/02/Screenshot-2026-01-28-at-12.23.54-PM-e1771564331838.png
ORGANIZER;CN="Barn Owl Brewing":MAILTO:info@barnowlbrewing.ca
END:VEVENT
BEGIN:VEVENT
DTSTART;TZID=America/Vancouver:20260323T180000
DTEND;TZID=America/Vancouver:20260323T190000
DTSTAMP:20260424T041306
CREATED:20260220T041036Z
LAST-MODIFIED:20260312T213915Z
UID:9377-1774288800-1774292400@www.barnowlbrewing.ca
SUMMARY:Never Miss A Monday Run Club
DESCRIPTION:Join the Never Miss A Monday Run Club every Monday at 6 PM for a 30-40 minute run\, jog\, or walk! Enjoy some fresh air\, get your steps in\, and stay afterward for a pint or grab dinner from Mystic Pizza. This event is free and open to all ages and abilities. \nPlease fill out the NMAM Run Club waiver before attending your first event. The form can be found HERE.
URL:https://www.barnowlbrewing.ca/event/never-miss-a-monday-run-club-7/
LOCATION:Barn Owl Brewing\, 102-4629 Lakeshore Road\, Kelowna\, BC\, V1W 1X3\, Canada
CATEGORIES:Never Miss A Monday Run Club
ATTACH;FMTTYPE=image/png:https://www.barnowlbrewing.ca/wp-content/uploads/2026/02/Screenshot-2026-01-28-at-12.23.54-PM-e1771564331838.png
ORGANIZER;CN="Barn Owl Brewing":MAILTO:info@barnowlbrewing.ca
END:VEVENT
BEGIN:VEVENT
DTSTART;TZID=America/Vancouver:20260316T180000
DTEND;TZID=America/Vancouver:20260316T190000
DTSTAMP:20260424T041306
CREATED:20260220T040930Z
LAST-MODIFIED:20260312T213846Z
UID:9375-1773684000-1773687600@www.barnowlbrewing.ca
SUMMARY:Never Miss A Monday Run Club
DESCRIPTION:Join the Never Miss A Monday Run Club every Monday at 6 PM for a 30-40 minute run\, jog\, or walk! Enjoy some fresh air\, get your steps in\, and stay afterward for a pint or grab dinner from Mystic Pizza. This event is free and open to all ages and abilities. \nPlease fill out the NMAM Run Club waiver before attending your first event. The form can be found HERE.
URL:https://www.barnowlbrewing.ca/event/never-miss-a-monday-run-club-6/
LOCATION:Barn Owl Brewing\, 102-4629 Lakeshore Road\, Kelowna\, BC\, V1W 1X3\, Canada
CATEGORIES:Never Miss A Monday Run Club
ATTACH;FMTTYPE=image/png:https://www.barnowlbrewing.ca/wp-content/uploads/2026/02/Screenshot-2026-01-28-at-12.23.54-PM-e1771564331838.png
ORGANIZER;CN="Barn Owl Brewing":MAILTO:info@barnowlbrewing.ca
END:VEVENT
BEGIN:VEVENT
DTSTART;TZID=America/Vancouver:20260309T180000
DTEND;TZID=America/Vancouver:20260309T190000
DTSTAMP:20260424T041306
CREATED:20260220T040838Z
LAST-MODIFIED:20260225T030050Z
UID:9371-1773079200-1773082800@www.barnowlbrewing.ca
SUMMARY:Never Miss A Monday Run Club
DESCRIPTION:Join the Never Miss A Monday Run Club every Monday at 6 PM for a 30-40 minute run\, jog\, or walk! Enjoy some fresh air\, get your steps in\, and stay afterward for a pint or grab dinner from Mystic Pizza. This event is free and open to all ages and abilities.
URL:https://www.barnowlbrewing.ca/event/never-miss-a-monday-run-club-5/
LOCATION:Barn Owl Brewing\, 102-4629 Lakeshore Road\, Kelowna\, BC\, V1W 1X3\, Canada
CATEGORIES:Never Miss A Monday Run Club
ATTACH;FMTTYPE=image/png:https://www.barnowlbrewing.ca/wp-content/uploads/2026/02/Screenshot-2026-01-28-at-12.23.54-PM-e1771564331838.png
ORGANIZER;CN="Barn Owl Brewing":MAILTO:info@barnowlbrewing.ca
END:VEVENT
BEGIN:VEVENT
DTSTART;TZID=America/Vancouver:20260302T180000
DTEND;TZID=America/Vancouver:20260302T190000
DTSTAMP:20260424T041306
CREATED:20260220T040653Z
LAST-MODIFIED:20260225T030032Z
UID:9369-1772474400-1772478000@www.barnowlbrewing.ca
SUMMARY:Never Miss A Monday Run Club
DESCRIPTION:Join the Never Miss A Monday Run Club every Monday at 6 PM for a 30-40 minute run\, jog\, or walk! Enjoy some fresh air\, get your steps in\, and stay afterward for a pint or grab dinner from Mystic Pizza. This event is free and open to all ages and abilities.
URL:https://www.barnowlbrewing.ca/event/never-miss-a-monday-run-club-4/
LOCATION:Barn Owl Brewing\, 102-4629 Lakeshore Road\, Kelowna\, BC\, V1W 1X3\, Canada
CATEGORIES:Never Miss A Monday Run Club
ATTACH;FMTTYPE=image/png:https://www.barnowlbrewing.ca/wp-content/uploads/2026/02/Screenshot-2026-01-28-at-12.23.54-PM-e1771564331838.png
ORGANIZER;CN="Barn Owl Brewing":MAILTO:info@barnowlbrewing.ca
END:VEVENT
BEGIN:VEVENT
DTSTART;TZID=America/Vancouver:20260223T180000
DTEND;TZID=America/Vancouver:20260223T190000
DTSTAMP:20260424T041306
CREATED:20260220T040503Z
LAST-MODIFIED:20260220T051449Z
UID:9367-1771869600-1771873200@www.barnowlbrewing.ca
SUMMARY:Never Miss a Monday Run Club
DESCRIPTION:Join the Never Miss A Monday Run Club every Monday at 6 PM for a 30-40 minute run\, jog\, or walk! Enjoy some fresh air\, get your steps in\, and stay afterward for a pint or grab dinner from Mystic Oak Pizza. This event is free and open to all ages and abilities.
URL:https://www.barnowlbrewing.ca/event/never-miss-a-monday-run-club-3/
LOCATION:Barn Owl Brewing\, 102-4629 Lakeshore Road\, Kelowna\, BC\, V1W 1X3\, Canada
CATEGORIES:Never Miss A Monday Run Club
ATTACH;FMTTYPE=image/png:https://www.barnowlbrewing.ca/wp-content/uploads/2026/02/Screenshot-2026-01-28-at-12.23.54-PM-e1771564331838.png
ORGANIZER;CN="Barn Owl Brewing":MAILTO:info@barnowlbrewing.ca
END:VEVENT
END:VCALENDAR