BEGIN:VCALENDAR
VERSION:2.0
PRODID:-//Barn Owl Brewing - ECPv6.15.15//NONSGML v1.0//EN
CALSCALE:GREGORIAN
METHOD:PUBLISH
X-WR-CALNAME:Barn Owl Brewing
X-ORIGINAL-URL:https://www.barnowlbrewing.ca
X-WR-CALDESC:Events for Barn Owl Brewing
REFRESH-INTERVAL;VALUE=DURATION:PT1H
X-Robots-Tag:noindex
X-PUBLISHED-TTL:PT1H
BEGIN:VTIMEZONE
TZID:America/Vancouver
BEGIN:DAYLIGHT
TZOFFSETFROM:-0800
TZOFFSETTO:-0700
TZNAME:PDT
DTSTART:20250309T100000
END:DAYLIGHT
BEGIN:STANDARD
TZOFFSETFROM:-0700
TZOFFSETTO:-0800
TZNAME:PST
DTSTART:20251102T090000
END:STANDARD
BEGIN:DAYLIGHT
TZOFFSETFROM:-0800
TZOFFSETTO:-0700
TZNAME:PDT
DTSTART:20260308T100000
END:DAYLIGHT
BEGIN:STANDARD
TZOFFSETFROM:-0700
TZOFFSETTO:-0800
TZNAME:PST
DTSTART:20261101T090000
END:STANDARD
BEGIN:DAYLIGHT
TZOFFSETFROM:-0800
TZOFFSETTO:-0700
TZNAME:PDT
DTSTART:20270314T100000
END:DAYLIGHT
BEGIN:STANDARD
TZOFFSETFROM:-0700
TZOFFSETTO:-0800
TZNAME:PST
DTSTART:20271107T090000
END:STANDARD
END:VTIMEZONE
BEGIN:VEVENT
DTSTART;TZID=America/Vancouver:20260621T140000
DTEND;TZID=America/Vancouver:20260621T160000
DTSTAMP:20260425T083713
CREATED:20260421T035532Z
LAST-MODIFIED:20260421T035532Z
UID:10067-1782050400-1782057600@www.barnowlbrewing.ca
SUMMARY:LIVE MUSIC: Andrew Smith and Bruce Wiebe
DESCRIPTION:Andrew Smith and Bruce Wiebe bring a lively mix of folk and jazz you won’t want to miss. Grab a pint\, sit back\, and enjoy some tunes from this talented duo!
URL:https://www.barnowlbrewing.ca/event/live-music-andrew-smith-and-bruce-wiebe-3/
LOCATION:Barn Owl Brewing\, 102-4629 Lakeshore Road\, Kelowna\, BC\, V1W 1X3\, Canada
CATEGORIES:Live Music
ATTACH;FMTTYPE=image/jpeg:https://www.barnowlbrewing.ca/wp-content/uploads/2026/04/Andrew-Smith-and-Bruce-Wiebe.jpeg
ORGANIZER;CN="Barn Owl Brewing":MAILTO:info@barnowlbrewing.ca
END:VEVENT
END:VCALENDAR