BEGIN:VCALENDAR
VERSION:2.0
PRODID:-//Barn Owl Brewing - ECPv6.15.15//NONSGML v1.0//EN
CALSCALE:GREGORIAN
METHOD:PUBLISH
X-WR-CALNAME:Barn Owl Brewing
X-ORIGINAL-URL:https://www.barnowlbrewing.ca
X-WR-CALDESC:Events for Barn Owl Brewing
REFRESH-INTERVAL;VALUE=DURATION:PT1H
X-Robots-Tag:noindex
X-PUBLISHED-TTL:PT1H
BEGIN:VTIMEZONE
TZID:America/Vancouver
BEGIN:DAYLIGHT
TZOFFSETFROM:-0800
TZOFFSETTO:-0700
TZNAME:PDT
DTSTART:20250309T100000
END:DAYLIGHT
BEGIN:STANDARD
TZOFFSETFROM:-0700
TZOFFSETTO:-0800
TZNAME:PST
DTSTART:20251102T090000
END:STANDARD
BEGIN:DAYLIGHT
TZOFFSETFROM:-0800
TZOFFSETTO:-0700
TZNAME:PDT
DTSTART:20260308T100000
END:DAYLIGHT
BEGIN:STANDARD
TZOFFSETFROM:-0700
TZOFFSETTO:-0800
TZNAME:PST
DTSTART:20261101T090000
END:STANDARD
BEGIN:DAYLIGHT
TZOFFSETFROM:-0800
TZOFFSETTO:-0700
TZNAME:PDT
DTSTART:20270314T100000
END:DAYLIGHT
BEGIN:STANDARD
TZOFFSETFROM:-0700
TZOFFSETTO:-0800
TZNAME:PST
DTSTART:20271107T090000
END:STANDARD
END:VTIMEZONE
BEGIN:VEVENT
DTSTART;TZID=America/Vancouver:20260610T183000
DTEND;TZID=America/Vancouver:20260610T200000
DTSTAMP:20260425T053849
CREATED:20260421T035043Z
LAST-MODIFIED:20260421T035043Z
UID:10060-1781116200-1781121600@www.barnowlbrewing.ca
SUMMARY:LIVE MUSIC: Twilight Troubadours
DESCRIPTION:This acoustic duo consists of singer-songwriter Jolie Anastasia and guitarist/vocalist Braden Mahon. With a musical repertoire consisting largely of folk\, country and bluegrass classics\, you’ll love their smooth harmonies and timeless tunes. \nBring your people\, grab a pint\, and enjoy!
URL:https://www.barnowlbrewing.ca/event/live-music-twilight-troubadours/
LOCATION:Barn Owl Brewing\, 102-4629 Lakeshore Road\, Kelowna\, BC\, V1W 1X3\, Canada
CATEGORIES:Live Music
ORGANIZER;CN="Barn Owl Brewing":MAILTO:info@barnowlbrewing.ca
END:VEVENT
END:VCALENDAR