BEGIN:VCALENDAR
VERSION:2.0
PRODID:-//Barn Owl Brewing - ECPv6.15.15//NONSGML v1.0//EN
CALSCALE:GREGORIAN
METHOD:PUBLISH
X-ORIGINAL-URL:https://www.barnowlbrewing.ca
X-WR-CALDESC:Events for Barn Owl Brewing
REFRESH-INTERVAL;VALUE=DURATION:PT1H
X-Robots-Tag:noindex
X-PUBLISHED-TTL:PT1H
BEGIN:VTIMEZONE
TZID:America/Vancouver
BEGIN:DAYLIGHT
TZOFFSETFROM:-0800
TZOFFSETTO:-0700
TZNAME:PDT
DTSTART:20250309T100000
END:DAYLIGHT
BEGIN:STANDARD
TZOFFSETFROM:-0700
TZOFFSETTO:-0800
TZNAME:PST
DTSTART:20251102T090000
END:STANDARD
BEGIN:DAYLIGHT
TZOFFSETFROM:-0800
TZOFFSETTO:-0700
TZNAME:PDT
DTSTART:20260308T100000
END:DAYLIGHT
BEGIN:STANDARD
TZOFFSETFROM:-0700
TZOFFSETTO:-0800
TZNAME:PST
DTSTART:20261101T090000
END:STANDARD
BEGIN:DAYLIGHT
TZOFFSETFROM:-0800
TZOFFSETTO:-0700
TZNAME:PDT
DTSTART:20270314T100000
END:DAYLIGHT
BEGIN:STANDARD
TZOFFSETFROM:-0700
TZOFFSETTO:-0800
TZNAME:PST
DTSTART:20271107T090000
END:STANDARD
END:VTIMEZONE
BEGIN:VEVENT
DTSTART;TZID=America/Vancouver:20260503T140000
DTEND;TZID=America/Vancouver:20260503T160000
DTSTAMP:20260424T130728
CREATED:20260421T030704Z
LAST-MODIFIED:20260421T031235Z
UID:10025-1777816800-1777824000@www.barnowlbrewing.ca
SUMMARY:LIVE MUSIC: Chris Drieschner – The Chris Show Live
DESCRIPTION:Solo acoustic covers and tributes\, with a set list that consists of Modern and Classic Rock and a few Country and Folk tunes. Stop by The Barn and check it out!
URL:https://www.barnowlbrewing.ca/event/live-music-chris-drieschner-the-chris-show-live/
LOCATION:Barn Owl Brewing\, 102-4629 Lakeshore Road\, Kelowna\, BC\, V1W 1X3\, Canada
CATEGORIES:Live Music
ATTACH;FMTTYPE=image/jpeg:https://www.barnowlbrewing.ca/wp-content/uploads/2026/04/Chris-Drieschner-e1776740772399.jpeg
ORGANIZER;CN="Barn Owl Brewing":MAILTO:info@barnowlbrewing.ca
END:VEVENT
BEGIN:VEVENT
DTSTART;TZID=America/Vancouver:20260506T183000
DTEND;TZID=America/Vancouver:20260506T200000
DTSTAMP:20260424T130728
CREATED:20260421T031023Z
LAST-MODIFIED:20260421T031245Z
UID:10035-1778092200-1778097600@www.barnowlbrewing.ca
SUMMARY:LIVE MUSIC: Giselle Sanderson
DESCRIPTION:After becoming a Juno & CCMA Nominated Singer-Songwriter\, Giselle has solidified her place in the Canadian country music scene. Throughout her career\, she has built a reputation not only for her vocal talent but also for her exceptional skills as a songwriter. \nStop by The Barn and enjoy some tunes full of powerful storytelling and heartfelt emotion.
URL:https://www.barnowlbrewing.ca/event/live-music-giselle-sanderson-2/
LOCATION:Barn Owl Brewing\, 102-4629 Lakeshore Road\, Kelowna\, BC\, V1W 1X3\, Canada
CATEGORIES:Live Music
ATTACH;FMTTYPE=image/avif:https://www.barnowlbrewing.ca/wp-content/uploads/2026/04/Giselle-Sanderson-scaled-e1776741003679.avif
ORGANIZER;CN="Barn Owl Brewing":MAILTO:info@barnowlbrewing.ca
END:VEVENT
BEGIN:VEVENT
DTSTART;TZID=America/Vancouver:20260510T140000
DTEND;TZID=America/Vancouver:20260510T160000
DTSTAMP:20260424T130728
CREATED:20260421T031152Z
LAST-MODIFIED:20260421T031152Z
UID:10039-1778421600-1778428800@www.barnowlbrewing.ca
SUMMARY:LIVE MUSIC: Andrew Smith and Bruce Wiebe
DESCRIPTION:Andrew Smith and Bruce Wiebe bring a lively mix of folk and jazz you won’t want to miss. Grab a pint\, sit back\, and enjoy some tunes from this talented duo!
URL:https://www.barnowlbrewing.ca/event/live-music-andrew-smith-and-bruce-wiebe-2/
LOCATION:Barn Owl Brewing\, 102-4629 Lakeshore Road\, Kelowna\, BC\, V1W 1X3\, Canada
CATEGORIES:Live Music
ATTACH;FMTTYPE=image/jpeg:https://www.barnowlbrewing.ca/wp-content/uploads/2026/04/Andrew-Smith-and-Bruce-Wiebe.jpeg
ORGANIZER;CN="Barn Owl Brewing":MAILTO:info@barnowlbrewing.ca
END:VEVENT
BEGIN:VEVENT
DTSTART;TZID=America/Vancouver:20260513T183000
DTEND;TZID=America/Vancouver:20260513T200000
DTSTAMP:20260424T130728
CREATED:20260421T031456Z
LAST-MODIFIED:20260421T031456Z
UID:10041-1778697000-1778702400@www.barnowlbrewing.ca
SUMMARY:LIVE MUSIC: Shalisa
DESCRIPTION:Local singer-songwriter Shalisa blends country and roots with a pop\, rock\, and blues edge. Catch her live at The Barn and enjoy some good tunes.
URL:https://www.barnowlbrewing.ca/event/live-music-shalisa-2/
LOCATION:Barn Owl Brewing\, 102-4629 Lakeshore Road\, Kelowna\, BC\, V1W 1X3\, Canada
CATEGORIES:Live Music
ATTACH;FMTTYPE=image/jpeg:https://www.barnowlbrewing.ca/wp-content/uploads/2026/04/Shalisa-e1776741269684.jpeg
ORGANIZER;CN="Barn Owl Brewing":MAILTO:info@barnowlbrewing.ca
END:VEVENT
BEGIN:VEVENT
DTSTART;TZID=America/Vancouver:20260517T140000
DTEND;TZID=America/Vancouver:20260517T160000
DTSTAMP:20260424T130728
CREATED:20260421T031712Z
LAST-MODIFIED:20260421T032557Z
UID:10044-1779026400-1779033600@www.barnowlbrewing.ca
SUMMARY:LIVE MUSIC: Kristi Neumann
DESCRIPTION:Born in Montana and shaped by years in Nashville\, Kristi brings unique songwriting and a strong stage presence to every show. Join us in The Barn for some tunes and delicious craft beer!
URL:https://www.barnowlbrewing.ca/event/live-music-kristi-neumann/
LOCATION:Barn Owl Brewing\, 102-4629 Lakeshore Road\, Kelowna\, BC\, V1W 1X3\, Canada
CATEGORIES:Live Music
ATTACH;FMTTYPE=image/jpeg:https://www.barnowlbrewing.ca/wp-content/uploads/2026/04/Kristi-Neumann-e1776741421473.jpeg
ORGANIZER;CN="Barn Owl Brewing":MAILTO:info@barnowlbrewing.ca
END:VEVENT
BEGIN:VEVENT
DTSTART;TZID=America/Vancouver:20260520T183000
DTEND;TZID=America/Vancouver:20260520T200000
DTSTAMP:20260424T130728
CREATED:20260421T032439Z
LAST-MODIFIED:20260421T032439Z
UID:10046-1779301800-1779307200@www.barnowlbrewing.ca
SUMMARY:LIVE MUSIC: Claire Kuzmyk
DESCRIPTION:Claire Kuzmyk is a singer-songwriter with a talent for creating original music featuring a whimsical pop style and enchanting lyrics. Stop by The Barn and enjoy some amazing tunes from this up-and-coming artist\, paired with a delicious pint of craft beer!
URL:https://www.barnowlbrewing.ca/event/live-music-claire-kuzmyk/
LOCATION:Barn Owl Brewing\, 102-4629 Lakeshore Road\, Kelowna\, BC\, V1W 1X3\, Canada
CATEGORIES:Live Music
ATTACH;FMTTYPE=image/jpeg:https://www.barnowlbrewing.ca/wp-content/uploads/2026/04/Claire-Kuzmyk-e1776741870102.jpeg
ORGANIZER;CN="Barn Owl Brewing":MAILTO:info@barnowlbrewing.ca
END:VEVENT
BEGIN:VEVENT
DTSTART;TZID=America/Vancouver:20260524T140000
DTEND;TZID=America/Vancouver:20260524T160000
DTSTAMP:20260424T130728
CREATED:20260421T032803Z
LAST-MODIFIED:20260421T032803Z
UID:10048-1779631200-1779638400@www.barnowlbrewing.ca
SUMMARY:LIVE MUSIC: Ari Neufeld
DESCRIPTION:Ari Neufeld is a one-man band\, redefining what it means to make music. This Canadian singer-songwriter turns his entire body into an instrument: guitar in hand\, feet stomping out rhythm and knees keeping time with percussive tools.\n\nStop by this Sunday afternoon and check it out.
URL:https://www.barnowlbrewing.ca/event/live-music-ari-neufeld-2/
LOCATION:Barn Owl Brewing\, 102-4629 Lakeshore Road\, Kelowna\, BC\, V1W 1X3\, Canada
CATEGORIES:Live Music
ATTACH;FMTTYPE=image/jpeg:https://www.barnowlbrewing.ca/wp-content/uploads/2026/04/Ari-Neufeld-e1776742019512.jpeg
ORGANIZER;CN="Barn Owl Brewing":MAILTO:info@barnowlbrewing.ca
END:VEVENT
BEGIN:VEVENT
DTSTART;TZID=America/Vancouver:20260527T183000
DTEND;TZID=America/Vancouver:20260527T200000
DTSTAMP:20260424T130728
CREATED:20260421T033204Z
LAST-MODIFIED:20260421T033204Z
UID:10052-1779906600-1779912000@www.barnowlbrewing.ca
SUMMARY:LIVE MUSIC: Ayla Jean
DESCRIPTION:Spend the evening enjoying some incredible live music! Bring your people\, grab a pint\, and sit back and relax while Ayla Jean performs.
URL:https://www.barnowlbrewing.ca/event/live-music-ayla-jean/
LOCATION:Barn Owl Brewing\, 102-4629 Lakeshore Road\, Kelowna\, BC\, V1W 1X3\, Canada
CATEGORIES:Live Music
ORGANIZER;CN="Barn Owl Brewing":MAILTO:info@barnowlbrewing.ca
END:VEVENT
BEGIN:VEVENT
DTSTART;TZID=America/Vancouver:20260531T140000
DTEND;TZID=America/Vancouver:20260531T160000
DTSTAMP:20260424T130728
CREATED:20260421T033802Z
LAST-MODIFIED:20260421T033802Z
UID:10054-1780236000-1780243200@www.barnowlbrewing.ca
SUMMARY:LIVE MUSIC: Cal Volpe
DESCRIPTION:Cal is a singer-songwriter with tunes rooted in acoustic and electric guitar rhythms and melodies. Stop by The Barn and catch one of his original songs or creative covers.
URL:https://www.barnowlbrewing.ca/event/live-music-cal-volpe-2/
LOCATION:Barn Owl Brewing\, 102-4629 Lakeshore Road\, Kelowna\, BC\, V1W 1X3\, Canada
CATEGORIES:Live Music
ATTACH;FMTTYPE=image/jpeg:https://www.barnowlbrewing.ca/wp-content/uploads/2026/04/Cal-Volpe-e1776742614152.jpeg
ORGANIZER;CN="Barn Owl Brewing":MAILTO:info@barnowlbrewing.ca
END:VEVENT
END:VCALENDAR