BEGIN:VCALENDAR
VERSION:2.0
PRODID:-//Barn Owl Brewing - ECPv6.15.15//NONSGML v1.0//EN
CALSCALE:GREGORIAN
METHOD:PUBLISH
X-ORIGINAL-URL:https://www.barnowlbrewing.ca
X-WR-CALDESC:Events for Barn Owl Brewing
REFRESH-INTERVAL;VALUE=DURATION:PT1H
X-Robots-Tag:noindex
X-PUBLISHED-TTL:PT1H
BEGIN:VTIMEZONE
TZID:America/Vancouver
BEGIN:DAYLIGHT
TZOFFSETFROM:-0800
TZOFFSETTO:-0700
TZNAME:PDT
DTSTART:20250309T100000
END:DAYLIGHT
BEGIN:STANDARD
TZOFFSETFROM:-0700
TZOFFSETTO:-0800
TZNAME:PST
DTSTART:20251102T090000
END:STANDARD
BEGIN:DAYLIGHT
TZOFFSETFROM:-0800
TZOFFSETTO:-0700
TZNAME:PDT
DTSTART:20260308T100000
END:DAYLIGHT
BEGIN:STANDARD
TZOFFSETFROM:-0700
TZOFFSETTO:-0800
TZNAME:PST
DTSTART:20261101T090000
END:STANDARD
BEGIN:DAYLIGHT
TZOFFSETFROM:-0800
TZOFFSETTO:-0700
TZNAME:PDT
DTSTART:20270314T100000
END:DAYLIGHT
BEGIN:STANDARD
TZOFFSETFROM:-0700
TZOFFSETTO:-0800
TZNAME:PST
DTSTART:20271107T090000
END:STANDARD
END:VTIMEZONE
BEGIN:VEVENT
DTSTART;TZID=America/Vancouver:20260525T180000
DTEND;TZID=America/Vancouver:20260525T190000
DTSTAMP:20260419T125348
CREATED:20260318T215115Z
LAST-MODIFIED:20260318T215115Z
UID:10010-1779732000-1779735600@www.barnowlbrewing.ca
SUMMARY:Never Miss A Monday Run Club
DESCRIPTION:Join the Never Miss A Monday Run Club every Monday at 6 PM for a 30-40 minute run\, jog\, or walk! Enjoy some fresh air\, get your steps in\, and stay afterward for a pint or grab dinner from Mystic Pizza. This event is free and open to all ages and abilities. \nPlease fill out the NMAM Run Club waiver before attending your first event. The form can be found HERE.
URL:https://www.barnowlbrewing.ca/event/never-miss-a-monday-run-club-16/
LOCATION:Barn Owl Brewing\, 102-4629 Lakeshore Road\, Kelowna\, BC\, V1W 1X3\, Canada
CATEGORIES:Never Miss A Monday Run Club
ATTACH;FMTTYPE=image/png:https://www.barnowlbrewing.ca/wp-content/uploads/2026/02/Screenshot-2026-01-28-at-12.23.54-PM-e1771564331838.png
ORGANIZER;CN="Barn Owl Brewing":MAILTO:info@barnowlbrewing.ca
END:VEVENT
END:VCALENDAR