BEGIN:VCALENDAR
VERSION:2.0
PRODID:-//Barn Owl Brewing - ECPv6.15.15//NONSGML v1.0//EN
CALSCALE:GREGORIAN
METHOD:PUBLISH
X-ORIGINAL-URL:https://www.barnowlbrewing.ca
X-WR-CALDESC:Events for Barn Owl Brewing
REFRESH-INTERVAL;VALUE=DURATION:PT1H
X-Robots-Tag:noindex
X-PUBLISHED-TTL:PT1H
BEGIN:VTIMEZONE
TZID:America/Vancouver
BEGIN:DAYLIGHT
TZOFFSETFROM:-0800
TZOFFSETTO:-0700
TZNAME:PDT
DTSTART:20250309T100000
END:DAYLIGHT
BEGIN:STANDARD
TZOFFSETFROM:-0700
TZOFFSETTO:-0800
TZNAME:PST
DTSTART:20251102T090000
END:STANDARD
BEGIN:DAYLIGHT
TZOFFSETFROM:-0800
TZOFFSETTO:-0700
TZNAME:PDT
DTSTART:20260308T100000
END:DAYLIGHT
BEGIN:STANDARD
TZOFFSETFROM:-0700
TZOFFSETTO:-0800
TZNAME:PST
DTSTART:20261101T090000
END:STANDARD
BEGIN:DAYLIGHT
TZOFFSETFROM:-0800
TZOFFSETTO:-0700
TZNAME:PDT
DTSTART:20270314T100000
END:DAYLIGHT
BEGIN:STANDARD
TZOFFSETFROM:-0700
TZOFFSETTO:-0800
TZNAME:PST
DTSTART:20271107T090000
END:STANDARD
END:VTIMEZONE
BEGIN:VEVENT
DTSTART;TZID=America/Vancouver:20260422T183000
DTEND;TZID=America/Vancouver:20260422T200000
DTSTAMP:20260419T125416
CREATED:20260312T040819Z
LAST-MODIFIED:20260408T211936Z
UID:9930-1776882600-1776888000@www.barnowlbrewing.ca
SUMMARY:LIVE MUSIC: Jeff Johnson
DESCRIPTION:Jeff Johnson is a Canadian Country Music Association award-winning producer of the year\, Juno-nominated producer and songwriter of the year and a multiple British Columbia Country Music Association award winner\, including 5-time producer of the year and one-time songwriter of the year. \nJeff has co-written and produced two number #1 albums\, a gold-selling album and a gold-selling single in country and pop. Jeff has worked with the likes of Dallas Smith\, George Canyon\, Joey Moi\, Faber Drive\, Jet Black Stare\, Meghan Patrick\, Chris Buck Band\, Tyler Joe Miller and many others. \nStill not convinced? Stop by The Barn and see what’s to love!
URL:https://www.barnowlbrewing.ca/event/live-music-jeff-johnson/
LOCATION:Private: The Loft\, 102 - 4629 Lakeshore Road\, Kelowna\, BC\, V1W 1X3\, Canada
CATEGORIES:Live Music
ATTACH;FMTTYPE=image/jpeg:https://www.barnowlbrewing.ca/wp-content/uploads/2026/03/download-3-e1773288472344.jpeg
ORGANIZER;CN="Barn Owl Brewing":MAILTO:info@barnowlbrewing.ca
END:VEVENT
END:VCALENDAR